BEGIN:VCALENDAR
VERSION:2.0
PRODID:-//CCJPL//NONSGML v1.0//EN
METHOD:PUBLISH
BEGIN:VEVENT
DTSTART;TZID=America/Chicago:20260504T173000
DTEND;TZID=America/Chicago:20260504T200000
DTSTAMP:20260422T094049
CREATED:20260422T094049-18000
SUMMARY:May the 4th Be With You Celebration
DESCRIPTION:Patrons of all ages - come enjoy snacks\, crafts\, cosplay and a screening of Star Wars\: A New Hope (1977)!

This event will run after hours and exit through the Round Room\, so please plan parking accordingly.
URL:ccjpl.digitalbranch.org/api/event_export_ics_controlle
LOCATION:
UID:32493
END:VEVENT
END:VCALENDAR
