BEGIN:VCALENDAR
VERSION:2.0
PRODID:-//CCJPL//NONSGML v1.0//EN
METHOD:PUBLISH
BEGIN:VEVENT
DTSTART;TZID=America/Chicago:20260509T110000
DTEND;TZID=America/Chicago:20260509T150000
DTSTAMP:20260425T101817
CREATED:20260425T101817-18000
SUMMARY:Library Game Day with NEA Gamer's Guild
DESCRIPTION:All ages can join us for Tabletop Game Day! Everyone is welcome to join this free day of games! Try out new types of table-top and board games and enter to take them home with you. There is something for everyone!
URL:ccjpl.digitalbranch.org/api/event_export_ics_controlle
LOCATION:
UID:32486
END:VEVENT
END:VCALENDAR
