BEGIN:VCALENDAR
VERSION:2.0
PRODID:-//CCJPL//NONSGML v1.0//EN
METHOD:PUBLISH
BEGIN:VEVENT
DTSTART;TZID=America/Chicago:20260521T140000
DTEND;TZID=America/Chicago:20260521T160000
DTSTAMP:20260425T101646
CREATED:20260425T101646-18000
SUMMARY:Homeschool Hangout
DESCRIPTION:Homeschool kids and parents\, join us in the Round Room for an event featuring education\, socialization\, and a storytime!
URL:ccjpl.digitalbranch.org/api/event_export_ics_controlle
LOCATION:
UID:32418
END:VEVENT
END:VCALENDAR
