BEGIN:VCALENDAR
VERSION:2.0
PRODID:-//CCJPL//NONSGML v1.0//EN
METHOD:PUBLISH
BEGIN:VEVENT
DTSTART;TZID=America/Chicago:20260505T173000
DTEND;TZID=America/Chicago:20260505T183000
DTSTAMP:20260425T101422
CREATED:20260425T101422-18000
SUMMARY:Family Literacy Night - Fort Night
DESCRIPTION:Kids and parents\, join us for stories\, fort-building\, and dinner!
URL:ccjpl.digitalbranch.org/api/event_export_ics_controlle
LOCATION:
UID:32417
END:VEVENT
END:VCALENDAR
