BEGIN:VCALENDAR
VERSION:2.0
PRODID:-//CCJPL//NONSGML v1.0//EN
METHOD:PUBLISH
BEGIN:VEVENT
DTSTART;TZID=America/Chicago:20260513T100000
DTEND;TZID=America/Chicago:20260513T110000
DTSTAMP:20260425T101802
CREATED:20260425T101802-18000
SUMMARY:Pre-K Playdate
DESCRIPTION:Come play with your pre-k friends at the library!  Each Wednesday\, we'll pull out special toys\, games\, and perhaps an art activity or two appropriate for children ages 3-5 years old.
URL:ccjpl.digitalbranch.org/api/event_export_ics_controlle
LOCATION:
UID:32402
END:VEVENT
END:VCALENDAR
