BEGIN:VCALENDAR
VERSION:2.0
PRODID:-//CCJPL//NONSGML v1.0//EN
METHOD:PUBLISH
BEGIN:VEVENT
DTSTART;TZID=America/Chicago:20260605T190000
DTEND;TZID=America/Chicago:20260605T210000
DTSTAMP:20260424T000150
CREATED:20260424T000150-18000
SUMMARY:Light Up the Night! - Teen Dance
DESCRIPTION:Shine bright for CCJPL’s 2026 Teen Dance! Enjoy an evening of glow-in-the dark fun with music\, refreshments\, a photo booth\, and more! 

Teens attending will enter through the Round Room After-Hours Entrance on the library’s Madison St. side. Teens must be 13 - 17 years old to attend this event.
URL:ccjpl.digitalbranch.org/api/event_export_ics_controlle
LOCATION:
UID:32400
END:VEVENT
END:VCALENDAR
