BEGIN:VCALENDAR
VERSION:2.0
PRODID:-//CCJPL//NONSGML v1.0//EN
METHOD:PUBLISH
BEGIN:VEVENT
DTSTART;TZID=America/Chicago:20260603T160000
DTEND;TZID=America/Chicago:20260603T170000
DTSTAMP:20260423T235855
CREATED:20260423T235855-18000
SUMMARY:Maker Meet-Up: Glow Bead Bracelet DIY
DESCRIPTION:Summer is finally here! Let’s party in the Makerspace\, sign up for the Summer Reading Challenge\, and make glow-in-the-dark beaded bracelets for the Teen Dance!
URL:ccjpl.digitalbranch.org/api/event_export_ics_controlle
LOCATION:
UID:32399
END:VEVENT
END:VCALENDAR
