BEGIN:VCALENDAR
VERSION:2.0
PRODID:-//CCJPL//NONSGML v1.0//EN
METHOD:PUBLISH
BEGIN:VEVENT
DTSTART;TZID=America/Chicago:20260530T093000
DTEND;TZID=America/Chicago:20260530T130000
DTSTAMP:20260424T000229
CREATED:20260424T000229-18000
SUMMARY:Teen Tabletop Club
DESCRIPTION:All teens are welcome to join in for some Tabletop RPG fun\, in a one-shot campaign led by Charlie Potter – newcomers welcome!
URL:ccjpl.digitalbranch.org/api/event_export_ics_controlle
LOCATION:
UID:32398
END:VEVENT
END:VCALENDAR
