BEGIN:VCALENDAR
VERSION:2.0
PRODID:-//CCJPL//NONSGML v1.0//EN
METHOD:PUBLISH
BEGIN:VEVENT
DTSTART;TZID=America/Chicago:20260520T160000
DTEND;TZID=America/Chicago:20260520T170000
DTSTAMP:20260424T000504
CREATED:20260424T000504-18000
SUMMARY:Teenhub Community Service Project: SRC Pin Pressing!
DESCRIPTION:Calling all Teens (7th-12th grade)! Help us prep & press pins for the 2026 Summer Reading Challenge\, utilizing the selected design submissions by our local teens!

(Teens can earn an hour of community service for attending this program and helping us make buttons. Service Hour Certificates will be awarded at the end of the program.)
URL:ccjpl.digitalbranch.org/api/event_export_ics_controlle
LOCATION:
UID:32397
END:VEVENT
END:VCALENDAR
