BEGIN:VCALENDAR
VERSION:2.0
PRODID:-//CCJPL//NONSGML v1.0//EN
METHOD:PUBLISH
BEGIN:VEVENT
DTSTART;TZID=America/Chicago:20260519T163000
DTEND;TZID=America/Chicago:20260519T180000
DTSTAMP:20260424T000031
CREATED:20260424T000031-18000
SUMMARY:Intro to 3-D Printing
DESCRIPTION:Discover the world of 3-D printing! Join our guest Chris Turner of the NEA 3-D Printing Club and learn how printers work\, how to use them safely\, maintain them\, and create your own custom 3-D designs.
URL:ccjpl.digitalbranch.org/api/event_export_ics_controlle
LOCATION:
UID:32396
END:VEVENT
END:VCALENDAR
