BEGIN:VCALENDAR
VERSION:2.0
PRODID:-//CCJPL//NONSGML v1.0//EN
METHOD:PUBLISH
BEGIN:VEVENT
DTSTART;TZID=America/Chicago:20260513T160000
DTEND;TZID=America/Chicago:20260513T170000
DTSTAMP:20260422T235150
CREATED:20260422T235150-18000
SUMMARY:TeenHub Sensory Hangout
DESCRIPTION:Need a study break? Teens (7th-12th grade) can join us for a calming sensory hangout to combat end-of-semester stress. Color and doodle\, piece together a puzzle\, or chill out your own way – feel free to bring a favorite book to read or another quiet activity of your choice\, and enjoy a mindful moment with us.
URL:ccjpl.digitalbranch.org/api/event_export_ics_controlle
LOCATION:
UID:32393
END:VEVENT
END:VCALENDAR
