BEGIN:VCALENDAR
VERSION:2.0
PRODID:-//CCJPL//NONSGML v1.0//EN
METHOD:PUBLISH
BEGIN:VEVENT
DTSTART;TZID=America/Chicago:20260423T120000
DTEND;TZID=America/Chicago:20260423T130000
DTSTAMP:20260422T093753
CREATED:20260422T093753-18000
SUMMARY:Adult Knitting Club
DESCRIPTION:Join us in the Shakespeare Room for our weekly knitting club!
URL:ccjpl.digitalbranch.org/api/event_export_ics_controlle
LOCATION:
UID:31418
END:VEVENT
END:VCALENDAR
