BEGIN:VCALENDAR
VERSION:2.0
PRODID:-//CCJPL//NONSGML v1.0//EN
METHOD:PUBLISH
BEGIN:VEVENT
DTSTART;TZID=America/Chicago:20241111T163000
DTEND;TZID=America/Chicago:20241111T190000
DTSTAMP:20260421T001937
CREATED:20260421T001937-18000
SUMMARY:CRRL and CCJPL Board Meetings
DESCRIPTION:The CRRL Board Meetings take place starting at 5pm in the Round Room\, and the CCJPL Board Meetings start at 5\:30pm in the Round Room and takes place every 2nd Monday of each month.
URL:ccjpl.digitalbranch.org/api/event_export_ics_controlle
LOCATION:
UID:12066
END:VEVENT
END:VCALENDAR
