BEGIN:VCALENDAR
VERSION:2.0
PRODID:-//CCJPL//NONSGML v1.0//EN
METHOD:PUBLISH
BEGIN:VEVENT
DTSTART;TZID=America/Chicago:20230926T160000
DTEND;TZID=America/Chicago:20230926T170000
DTSTAMP:20260422T065610
CREATED:20260422T065610-18000
SUMMARY:The Inbetween: DIY Puzzle Design
DESCRIPTION:Tweens can design and decorate their very own puzzles - piece by piece!
URL:ccjpl.digitalbranch.org/api/event_export_ics_controlle
LOCATION:
UID:11130
END:VEVENT
END:VCALENDAR
