BEGIN:VCALENDAR
VERSION:2.0
PRODID:-//CCJPL//NONSGML v1.0//EN
METHOD:PUBLISH
BEGIN:VEVENT
DTSTART;TZID=America/Chicago:20230703T130000
DTEND;TZID=America/Chicago:20230703T150000
DTSTAMP:20260422T072117
CREATED:20260422T072117-18000
SUMMARY:Monday Matinee
DESCRIPTION:Join us in the Round Room for our Monday Matinee!
URL:ccjpl.digitalbranch.org/api/event_export_ics_controlle
LOCATION:
UID:10663
END:VEVENT
END:VCALENDAR
